BEGIN:VCALENDAR
VERSION:2.0
PRODID:-//TASC - ECPv5.16.4.1//NONSGML v1.0//EN
CALSCALE:GREGORIAN
METHOD:PUBLISH
X-WR-CALNAME:TASC
X-ORIGINAL-URL:https://www.tasc.tas.gov.au
X-WR-CALDESC:Events for TASC
BEGIN:VTIMEZONE
TZID:Australia/Hobart
BEGIN:STANDARD
TZOFFSETFROM:+1100
TZOFFSETTO:+1000
TZNAME:AEST
DTSTART:20210403T160000
END:STANDARD
BEGIN:DAYLIGHT
TZOFFSETFROM:+1000
TZOFFSETTO:+1100
TZNAME:AEDT
DTSTART:20211002T160000
END:DAYLIGHT
END:VTIMEZONE
BEGIN:VEVENT
DTSTART;VALUE=DATE:20210831
DTEND;VALUE=DATE:20210901
DTSTAMP:20260422T183543
CREATED:20210822T134201Z
LAST-MODIFIED:20260407T060248Z
UID:12365-1630368000-1630454399@www.tasc.tas.gov.au
SUMMARY:2021 Student Enrolment - closing date 
DESCRIPTION:Student enrolments close on Tuesday 31 August 2021. The closure date for enrolment is aligned with a point in the year where students will still have adequate time to be exposed to the course content and assessment requirements of any subsequent course change. \nFollowing 31 August\, schools may make a request to TASC for a change in enrolment status.\nIf there is a requirement for an enrolment change (such as movement into a Level 2 course) then TASC requires some supportive evidence.\nThe process and evidence required includes: \n\nMake a request for a change in enrolment via a Quality Assurance task in TRACS including:\n\nevidence of individual student participation in previous and new course (attendance records and assessment records. Examples of completed assessment tasks may be requested)\nschool policy and procedure for changes of courses\, and how these were applied in the specific case\nevidence of management of course change (e.g. prior tasks re-assessed for ‘new’ course’s criteria/standards\, work requirements needing to be undertaken\, mapping of previous and ‘new’ course contents\, and plan to address identified gaps in content)\nevidence of delivery and assessment in a ‘new’ course to date (e.g. scope and sequence\, assessment records\, attendance records)\n\n\n\nIf you have any queries please contact the Quality Assurance team via TRACS or QualityAssurance@tasc.tas.gov.au.
URL:https://www.tasc.tas.gov.au/event/2021-student-enrolment-closing-date/
END:VEVENT
END:VCALENDAR