BEGIN:VCALENDAR
VERSION:2.0
PRODID:-//TASC - ECPv5.16.4.1//NONSGML v1.0//EN
CALSCALE:GREGORIAN
METHOD:PUBLISH
X-WR-CALNAME:TASC
X-ORIGINAL-URL:https://www.tasc.tas.gov.au
X-WR-CALDESC:Events for TASC
BEGIN:VTIMEZONE
TZID:Australia/Hobart
BEGIN:STANDARD
TZOFFSETFROM:+1100
TZOFFSETTO:+1000
TZNAME:AEST
DTSTART:20260404T160000
END:STANDARD
BEGIN:DAYLIGHT
TZOFFSETFROM:+1000
TZOFFSETTO:+1100
TZNAME:AEDT
DTSTART:20261003T160000
END:DAYLIGHT
END:VTIMEZONE
BEGIN:VEVENT
DTSTART;VALUE=DATE:20260831
DTEND;VALUE=DATE:20260901
DTSTAMP:20260423T013714
CREATED:20260115T000212Z
LAST-MODIFIED:20260407T055918Z
UID:27175-1788134400-1788220799@www.tasc.tas.gov.au
SUMMARY:Course movement changes close (all course levels)
DESCRIPTION:Schools cannot make student course movements for any course of any level on or after 1 September (that is\, no changes at all after COB on Monday 31 August.)
URL:https://www.tasc.tas.gov.au/event/course-movement-changes-close-all-course-levels/
END:VEVENT
END:VCALENDAR