BEGIN:VCALENDAR
VERSION:2.0
PRODID:-//TASC - ECPv5.16.4.1//NONSGML v1.0//EN
CALSCALE:GREGORIAN
METHOD:PUBLISH
X-WR-CALNAME:TASC
X-ORIGINAL-URL:https://www.tasc.tas.gov.au
X-WR-CALDESC:Events for TASC
BEGIN:VTIMEZONE
TZID:Australia/Hobart
BEGIN:STANDARD
TZOFFSETFROM:+1100
TZOFFSETTO:+1000
TZNAME:AEST
DTSTART:20260404T160000
END:STANDARD
BEGIN:DAYLIGHT
TZOFFSETFROM:+1000
TZOFFSETTO:+1100
TZNAME:AEDT
DTSTART:20261003T160000
END:DAYLIGHT
END:VTIMEZONE
BEGIN:VEVENT
DTSTART;VALUE=DATE:20260731
DTEND;VALUE=DATE:20260801
DTSTAMP:20260420T171809
CREATED:20260114T235735Z
LAST-MODIFIED:20260407T055918Z
UID:27162-1785456000-1785542399@www.tasc.tas.gov.au
SUMMARY:Course movements close (Level 3 & 4 courses)
DESCRIPTION:Schools cannot move students into any Level 3 or 4 course after the first week of Term 3 (that is\, no changes after COB on 31 July 2026). For more information\, see Course movements.
URL:https://www.tasc.tas.gov.au/event/course-movements-close-level-3-and-4-courses/
END:VEVENT
END:VCALENDAR