BEGIN:VCALENDAR
VERSION:2.0
PRODID:-//TASC - ECPv5.16.4.1//NONSGML v1.0//EN
CALSCALE:GREGORIAN
METHOD:PUBLISH
X-WR-CALNAME:TASC
X-ORIGINAL-URL:https://www.tasc.tas.gov.au
X-WR-CALDESC:Events for TASC
BEGIN:VTIMEZONE
TZID:Australia/Hobart
BEGIN:STANDARD
TZOFFSETFROM:+1100
TZOFFSETTO:+1000
TZNAME:AEST
DTSTART:20260404T160000
END:STANDARD
BEGIN:DAYLIGHT
TZOFFSETFROM:+1000
TZOFFSETTO:+1100
TZNAME:AEDT
DTSTART:20261003T160000
END:DAYLIGHT
END:VTIMEZONE
BEGIN:VEVENT
DTSTART;VALUE=DATE:20260605
DTEND;VALUE=DATE:20260606
DTSTAMP:20260420T094134
CREATED:20260113T031157Z
LAST-MODIFIED:20260407T055921Z
UID:27135-1780617600-1780703999@www.tasc.tas.gov.au
SUMMARY:DECYP Moderation Day
DESCRIPTION:Cross-sectoral statewide Senior Secondary Moderation (coordinated by DECYP) will transition to one day per year\, commencing in 2025. \nThe 2026 Years 11 and 12 Moderation Day will align with the K-10 Moderation. \nNote: As Moderation Day is coordinated by DECYP\, not TASC\, if you require assistance\, please contact seniorsecondaryprovision@decyp.tas.gov.au
URL:https://www.tasc.tas.gov.au/event/decyp-moderation-day/
END:VEVENT
END:VCALENDAR