BEGIN:VCALENDAR
VERSION:2.0
PRODID:-//TASC - ECPv5.16.4.1//NONSGML v1.0//EN
CALSCALE:GREGORIAN
METHOD:PUBLISH
X-WR-CALNAME:TASC
X-ORIGINAL-URL:https://www.tasc.tas.gov.au
X-WR-CALDESC:Events for TASC
BEGIN:VTIMEZONE
TZID:Australia/Hobart
BEGIN:STANDARD
TZOFFSETFROM:+1100
TZOFFSETTO:+1000
TZNAME:AEST
DTSTART:20240406T160000
END:STANDARD
BEGIN:DAYLIGHT
TZOFFSETFROM:+1000
TZOFFSETTO:+1100
TZNAME:AEDT
DTSTART:20241005T160000
END:DAYLIGHT
END:VTIMEZONE
BEGIN:VEVENT
DTSTART;VALUE=DATE:20240220
DTEND;VALUE=DATE:20240221
DTSTAMP:20260420T071512
CREATED:20231128T032837Z
LAST-MODIFIED:20260407T060112Z
UID:20545-1708387200-1708473599@www.tasc.tas.gov.au
SUMMARY:Desktop Audit - Project Implementation (Level 2) Learning Design Due
DESCRIPTION:Project Implementation Level 2 – Project Implementation Learning Designs will be developed by providers and submitted to TASC for approval. If the course is being delivered from the start of Term 1\, the designs must be sent to TASC no later than 20 February. If delivery of the course starts at other times during the year\, designs need to be approved prior to the start of teaching and learning. \nNote: a separate Learning Design is needed for each distinct project. \nThe Learning Design template is available for download via the ‘Supporting Documents’ tab in the course document. TASC will undertake audits of providers’ course delivery and assessment\, including checks of specific learner projects against approved Learning Designs. Audits will be scheduled by TASC using a risk-based approach.
URL:https://www.tasc.tas.gov.au/event/desktop-audit-project-implementation-level-2-learning-design-due/
END:VEVENT
END:VCALENDAR