BEGIN:VCALENDAR
VERSION:2.0
PRODID:-//TASC - ECPv5.16.4.1//NONSGML v1.0//EN
CALSCALE:GREGORIAN
METHOD:PUBLISH
X-WR-CALNAME:TASC
X-ORIGINAL-URL:https://www.tasc.tas.gov.au
X-WR-CALDESC:Events for TASC
BEGIN:VTIMEZONE
TZID:Australia/Hobart
BEGIN:STANDARD
TZOFFSETFROM:+1100
TZOFFSETTO:+1000
TZNAME:AEST
DTSTART:20260404T160000
END:STANDARD
BEGIN:DAYLIGHT
TZOFFSETFROM:+1000
TZOFFSETTO:+1100
TZNAME:AEDT
DTSTART:20261003T160000
END:DAYLIGHT
END:VTIMEZONE
BEGIN:VEVENT
DTSTART;TZID=Australia/Hobart:20260827T153000
DTEND;TZID=Australia/Hobart:20260827T160000
DTSTAMP:20260422T221222
CREATED:20260205T050236Z
LAST-MODIFIED:20260407T055908Z
UID:27585-1787844600-1787846400@www.tasc.tas.gov.au
SUMMARY:Exam timetable information session – Online TLO and Principal Forum
DESCRIPTION:Exam timetable information session – Online TLO and Principal Forum | Thursday 27 August (Week 5) (TBC) | 3:30 pm – 4:00 pm | meeting link
URL:https://www.tasc.tas.gov.au/event/exam-timetable-information-session-online-tlo-and-principal-forum/
END:VEVENT
END:VCALENDAR