BEGIN:VCALENDAR
VERSION:2.0
PRODID:-//TASC - ECPv5.16.4.1//NONSGML v1.0//EN
CALSCALE:GREGORIAN
METHOD:PUBLISH
X-WR-CALNAME:TASC
X-ORIGINAL-URL:https://www.tasc.tas.gov.au
X-WR-CALDESC:Events for TASC
BEGIN:VTIMEZONE
TZID:Australia/Hobart
BEGIN:STANDARD
TZOFFSETFROM:+1100
TZOFFSETTO:+1000
TZNAME:AEST
DTSTART:20260404T160000
END:STANDARD
BEGIN:DAYLIGHT
TZOFFSETFROM:+1000
TZOFFSETTO:+1100
TZNAME:AEDT
DTSTART:20261003T160000
END:DAYLIGHT
END:VTIMEZONE
BEGIN:VEVENT
DTSTART;TZID=Australia/Hobart:20261109T080000
DTEND;TZID=Australia/Hobart:20261113T170000
DTSTAMP:20260422T183516
CREATED:20260113T025719Z
LAST-MODIFIED:20260407T055922Z
UID:27124-1794211200-1794589200@www.tasc.tas.gov.au
SUMMARY:Level 3 and 4 internal ratings verification period
DESCRIPTION:Internal ratings verification period for Level 3 and 4 courses: Monday 9 – Friday 13 November 2026. \nSee Final internal rating submission and verification for more information.
URL:https://www.tasc.tas.gov.au/event/level-3-and-4-internal-ratings-verification-period/
END:VEVENT
END:VCALENDAR