BEGIN:VCALENDAR
VERSION:2.0
PRODID:-//TASC - ECPv5.16.4.1//NONSGML v1.0//EN
CALSCALE:GREGORIAN
METHOD:PUBLISH
X-WR-CALNAME:TASC
X-ORIGINAL-URL:https://www.tasc.tas.gov.au
X-WR-CALDESC:Events for TASC
BEGIN:VTIMEZONE
TZID:Australia/Hobart
BEGIN:STANDARD
TZOFFSETFROM:+1100
TZOFFSETTO:+1000
TZNAME:AEST
DTSTART:20260404T160000
END:STANDARD
BEGIN:DAYLIGHT
TZOFFSETFROM:+1000
TZOFFSETTO:+1100
TZNAME:AEDT
DTSTART:20261003T160000
END:DAYLIGHT
END:VTIMEZONE
BEGIN:VEVENT
DTSTART;TZID=Australia/Hobart:20260514T153000
DTEND;TZID=Australia/Hobart:20260514T160000
DTSTAMP:20260420T142648
CREATED:20260205T050020Z
LAST-MODIFIED:20260407T055908Z
UID:27579-1778772600-1778774400@www.tasc.tas.gov.au
SUMMARY:Online TLO and Principal Forum
DESCRIPTION:Online TLO and Principal Forum | Thursday 14 May (Week 2) | 3:30 pm – 4:00 pm | meeting link
URL:https://www.tasc.tas.gov.au/event/online-tlo-and-principal-forum/
END:VEVENT
END:VCALENDAR