BEGIN:VCALENDAR
VERSION:2.0
PRODID:-//TASC - ECPv5.16.4.1//NONSGML v1.0//EN
CALSCALE:GREGORIAN
METHOD:PUBLISH
X-WR-CALNAME:TASC
X-ORIGINAL-URL:https://www.tasc.tas.gov.au
X-WR-CALDESC:Events for TASC
BEGIN:VTIMEZONE
TZID:Australia/Hobart
BEGIN:STANDARD
TZOFFSETFROM:+1100
TZOFFSETTO:+1000
TZNAME:AEST
DTSTART:20210403T160000
END:STANDARD
BEGIN:DAYLIGHT
TZOFFSETFROM:+1000
TZOFFSETTO:+1100
TZNAME:AEDT
DTSTART:20211002T160000
END:DAYLIGHT
END:VTIMEZONE
BEGIN:VEVENT
DTSTART;VALUE=DATE:20210829
DTEND;VALUE=DATE:20210830
DTSTAMP:20260422T201152
CREATED:20210805T001334Z
LAST-MODIFIED:20260407T060258Z
UID:12237-1630195200-1630281599@www.tasc.tas.gov.au
SUMMARY:QA Meetings: Final Day to Register Attendance to Physical Meetings
DESCRIPTION:Please note: registration for online meetings is to be completed via the TRACS Portal. Please speak with your school’s TLO if you require assistance. \nQuality assurance meetings
URL:https://www.tasc.tas.gov.au/event/qa-meetings-registration-for-physical-meetings-is-due-today/
END:VEVENT
END:VCALENDAR