BEGIN:VCALENDAR
VERSION:2.0
PRODID:-//TASC - ECPv5.16.4.1//NONSGML v1.0//EN
CALSCALE:GREGORIAN
METHOD:PUBLISH
X-WR-CALNAME:TASC
X-ORIGINAL-URL:https://www.tasc.tas.gov.au
X-WR-CALDESC:Events for TASC
BEGIN:VTIMEZONE
TZID:Australia/Hobart
BEGIN:STANDARD
TZOFFSETFROM:+1100
TZOFFSETTO:+1000
TZNAME:AEST
DTSTART:20260404T160000
END:STANDARD
BEGIN:DAYLIGHT
TZOFFSETFROM:+1000
TZOFFSETTO:+1100
TZNAME:AEDT
DTSTART:20261003T160000
END:DAYLIGHT
END:VTIMEZONE
BEGIN:VEVENT
DTSTART;VALUE=DATE:20261201
DTEND;VALUE=DATE:20261202
DTSTAMP:20260422T184346
CREATED:20260113T032808Z
LAST-MODIFIED:20260407T055919Z
UID:27148-1796083200-1796169599@www.tasc.tas.gov.au
SUMMARY:RTO reporting – Interim submission due
DESCRIPTION:All RTOs delivering training to Tasmanian clients are required to submit an AVS-validated\, error-free AVETMISS VET Provider collection covering the period 01/01/2026 to date*.\n*December 2026 – Submission is required for RTOs delivering to any Tasmanian client. This submission is critical as results may determine Tasmanian Certificate of Education eligibility. For more information\, see RTO Reporting.
URL:https://www.tasc.tas.gov.au/event/rto-reporting-interim-submission-due/
END:VEVENT
END:VCALENDAR