BEGIN:VCALENDAR
VERSION:2.0
PRODID:-//TASC - ECPv5.16.4.1//NONSGML v1.0//EN
CALSCALE:GREGORIAN
METHOD:PUBLISH
X-WR-CALNAME:TASC
X-ORIGINAL-URL:https://www.tasc.tas.gov.au
X-WR-CALDESC:Events for TASC
BEGIN:VTIMEZONE
TZID:Australia/Hobart
BEGIN:STANDARD
TZOFFSETFROM:+1100
TZOFFSETTO:+1000
TZNAME:AEST
DTSTART:20270403T160000
END:STANDARD
BEGIN:DAYLIGHT
TZOFFSETFROM:+1000
TZOFFSETTO:+1100
TZNAME:AEDT
DTSTART:20271002T160000
END:DAYLIGHT
END:VTIMEZONE
BEGIN:VEVENT
DTSTART;VALUE=DATE:20270115
DTEND;VALUE=DATE:20270116
DTSTAMP:20260423T014154
CREATED:20260113T033853Z
LAST-MODIFIED:20260407T055919Z
UID:27151-1799971200-1800057599@www.tasc.tas.gov.au
SUMMARY:RTO reporting – Quarter 4 submission due
DESCRIPTION:All RTOs delivering training to Tasmanian clients are required to submit an AVS-validated\, error-free AVETMISS VET Provider collection covering the period 01/01/2026 – 31/12/2026. For more information\, see RTO Reporting.
URL:https://www.tasc.tas.gov.au/event/rto-reporting-quarter-4-submission-due/
END:VEVENT
END:VCALENDAR