BEGIN:VCALENDAR
VERSION:2.0
PRODID:-//TASC - ECPv5.16.4.1//NONSGML v1.0//EN
CALSCALE:GREGORIAN
METHOD:PUBLISH
X-WR-CALNAME:TASC
X-ORIGINAL-URL:https://www.tasc.tas.gov.au
X-WR-CALDESC:Events for TASC
BEGIN:VTIMEZONE
TZID:Australia/Hobart
BEGIN:STANDARD
TZOFFSETFROM:+1100
TZOFFSETTO:+1000
TZNAME:AEST
DTSTART:20260404T160000
END:STANDARD
BEGIN:DAYLIGHT
TZOFFSETFROM:+1000
TZOFFSETTO:+1100
TZNAME:AEDT
DTSTART:20261003T160000
END:DAYLIGHT
END:VTIMEZONE
BEGIN:VEVENT
DTSTART;VALUE=DATE:20260727
DTEND;VALUE=DATE:20260728
DTSTAMP:20260420T140428
CREATED:20260104T234757Z
LAST-MODIFIED:20260409T012343Z
UID:26986-1785110400-1785196799@www.tasc.tas.gov.au
SUMMARY:TASC Outstanding Achievement in Vocational Education and Training (VET) Award nominations open
DESCRIPTION:Applications for the TASC Outstanding Achievement in VET Award open today.
URL:https://www.tasc.tas.gov.au/event/tasc-outstanding-achievement-in-vocational-education-and-training-vet-awards-nominations-open/
END:VEVENT
END:VCALENDAR