BEGIN:VCALENDAR
VERSION:2.0
PRODID:-//TASC - ECPv5.16.4.1//NONSGML v1.0//EN
CALSCALE:GREGORIAN
METHOD:PUBLISH
X-WR-CALNAME:TASC
X-ORIGINAL-URL:https://www.tasc.tas.gov.au
X-WR-CALDESC:Events for TASC
BEGIN:VTIMEZONE
TZID:Australia/Hobart
BEGIN:STANDARD
TZOFFSETFROM:+1100
TZOFFSETTO:+1000
TZNAME:AEST
DTSTART:20260404T160000
END:STANDARD
BEGIN:DAYLIGHT
TZOFFSETFROM:+1000
TZOFFSETTO:+1100
TZNAME:AEDT
DTSTART:20261003T160000
END:DAYLIGHT
END:VTIMEZONE
BEGIN:VEVENT
DTSTART;TZID=Australia/Hobart:20260713T080000
DTEND;TZID=Australia/Hobart:20260726T170000
DTSTAMP:20260420T091943
CREATED:20251014T233444Z
LAST-MODIFIED:20260407T055941Z
UID:26422-1783929600-1785085200@www.tasc.tas.gov.au
SUMMARY:Term 2 break
DESCRIPTION:
URL:https://www.tasc.tas.gov.au/event/term-2-break-3/
END:VEVENT
END:VCALENDAR