BEGIN:VCALENDAR
VERSION:2.0
PRODID:-//TASC - ECPv5.16.4.1//NONSGML v1.0//EN
CALSCALE:GREGORIAN
METHOD:PUBLISH
X-WR-CALNAME:TASC
X-ORIGINAL-URL:https://www.tasc.tas.gov.au
X-WR-CALDESC:Events for TASC
BEGIN:VTIMEZONE
TZID:Australia/Hobart
BEGIN:STANDARD
TZOFFSETFROM:+1100
TZOFFSETTO:+1000
TZNAME:AEST
DTSTART:20260404T160000
END:STANDARD
BEGIN:DAYLIGHT
TZOFFSETFROM:+1000
TZOFFSETTO:+1100
TZNAME:AEDT
DTSTART:20261003T160000
END:DAYLIGHT
END:VTIMEZONE
BEGIN:VEVENT
DTSTART;VALUE=DATE:20261019
DTEND;VALUE=DATE:20261020
DTSTAMP:20260423T103855
CREATED:20251014T234212Z
LAST-MODIFIED:20260407T055940Z
UID:26436-1792368000-1792454399@www.tasc.tas.gov.au
SUMMARY:Term 4 begins
DESCRIPTION:
URL:https://www.tasc.tas.gov.au/event/term-4-begins/
END:VEVENT
END:VCALENDAR