BEGIN:VCALENDAR
VERSION:2.0
PRODID:-//TASC - ECPv5.16.4.1//NONSGML v1.0//EN
CALSCALE:GREGORIAN
METHOD:PUBLISH
X-WR-CALNAME:TASC
X-ORIGINAL-URL:https://www.tasc.tas.gov.au
X-WR-CALDESC:Events for TASC
BEGIN:VTIMEZONE
TZID:Australia/Hobart
BEGIN:STANDARD
TZOFFSETFROM:+1100
TZOFFSETTO:+1000
TZNAME:AEST
DTSTART:20260404T160000
END:STANDARD
BEGIN:DAYLIGHT
TZOFFSETFROM:+1000
TZOFFSETTO:+1100
TZNAME:AEDT
DTSTART:20261003T160000
END:DAYLIGHT
END:VTIMEZONE
BEGIN:VEVENT
DTSTART;TZID=Australia/Hobart:20261109T080000
DTEND;TZID=Australia/Hobart:20261113T170000
DTSTAMP:20260422T203048
CREATED:20240619T043836Z
LAST-MODIFIED:20260407T060047Z
UID:21710-1794211200-1794589200@www.tasc.tas.gov.au
SUMMARY:Written Exam Period – Week 1
DESCRIPTION:
URL:https://www.tasc.tas.gov.au/event/written-exam-period-week-1-2/
END:VEVENT
END:VCALENDAR