BEGIN:VCALENDAR
VERSION:2.0
PRODID:-//TASC - ECPv5.16.4.1//NONSGML v1.0//EN
CALSCALE:GREGORIAN
METHOD:PUBLISH
X-WR-CALNAME:TASC
X-ORIGINAL-URL:https://www.tasc.tas.gov.au
X-WR-CALDESC:Events for TASC
BEGIN:VTIMEZONE
TZID:Australia/Hobart
BEGIN:STANDARD
TZOFFSETFROM:+1100
TZOFFSETTO:+1000
TZNAME:AEST
DTSTART:20270403T160000
END:STANDARD
BEGIN:DAYLIGHT
TZOFFSETFROM:+1000
TZOFFSETTO:+1100
TZNAME:AEDT
DTSTART:20271002T160000
END:DAYLIGHT
END:VTIMEZONE
BEGIN:VEVENT
DTSTART;TZID=Australia/Hobart:20271108T080000
DTEND;TZID=Australia/Hobart:20271112T170000
DTSTAMP:20260423T030246
CREATED:20250713T235054Z
LAST-MODIFIED:20260407T055949Z
UID:25629-1825660800-1826038800@www.tasc.tas.gov.au
SUMMARY:Written Exam Period - Week 1 (subject to change)
DESCRIPTION:
URL:https://www.tasc.tas.gov.au/event/written-exam-period-week-1-tbc/
END:VEVENT
END:VCALENDAR