BEGIN:VCALENDAR
VERSION:2.0
PRODID:-//TASC - ECPv5.16.4.1//NONSGML v1.0//EN
CALSCALE:GREGORIAN
METHOD:PUBLISH
X-WR-CALNAME:TASC
X-ORIGINAL-URL:https://www.tasc.tas.gov.au
X-WR-CALDESC:Events for TASC
BEGIN:VTIMEZONE
TZID:Australia/Hobart
BEGIN:STANDARD
TZOFFSETFROM:+1100
TZOFFSETTO:+1000
TZNAME:AEST
DTSTART:20260404T160000
END:STANDARD
BEGIN:DAYLIGHT
TZOFFSETFROM:+1000
TZOFFSETTO:+1100
TZNAME:AEDT
DTSTART:20261003T160000
END:DAYLIGHT
END:VTIMEZONE
BEGIN:VEVENT
DTSTART;TZID=Australia/Hobart:20261116T080000
DTEND;TZID=Australia/Hobart:20261119T170000
DTSTAMP:20260420T205903
CREATED:20240619T043904Z
LAST-MODIFIED:20260407T060047Z
UID:21712-1794816000-1795107600@www.tasc.tas.gov.au
SUMMARY:Written Exam Period – Week 2
DESCRIPTION:
URL:https://www.tasc.tas.gov.au/event/written-exam-period-week-2-3/
END:VEVENT
END:VCALENDAR