BEGIN:VCALENDAR
VERSION:2.0
PRODID:-//TASC - ECPv5.16.4.1//NONSGML v1.0//EN
CALSCALE:GREGORIAN
METHOD:PUBLISH
X-WR-CALNAME:TASC
X-ORIGINAL-URL:https://www.tasc.tas.gov.au
X-WR-CALDESC:Events for TASC
BEGIN:VTIMEZONE
TZID:Australia/Hobart
BEGIN:STANDARD
TZOFFSETFROM:+1100
TZOFFSETTO:+1000
TZNAME:AEST
DTSTART:20270403T160000
END:STANDARD
BEGIN:DAYLIGHT
TZOFFSETFROM:+1000
TZOFFSETTO:+1100
TZNAME:AEDT
DTSTART:20271002T160000
END:DAYLIGHT
END:VTIMEZONE
BEGIN:VEVENT
DTSTART;TZID=Australia/Hobart:20271115T080000
DTEND;TZID=Australia/Hobart:20271118T170000
DTSTAMP:20260423T045549
CREATED:20250713T235221Z
LAST-MODIFIED:20260407T055948Z
UID:25632-1826265600-1826557200@www.tasc.tas.gov.au
SUMMARY:Written Exam Period - Week 2 (subject to change)
DESCRIPTION:
URL:https://www.tasc.tas.gov.au/event/written-exam-period-week-2-subject-to-change/
END:VEVENT
END:VCALENDAR